BEGIN:VCALENDAR
METHOD:PUBLISH
VERSION:2.0
PRODID:-//Special Olympics - Volunteer Opportunity//Calendar//EN

BEGIN:VEVENT
SUMMARY:Dunwoody | Special Olympics - Volunteer Opportunity
DESCRIPTION:
X-ALT-DESC:
UID:Event9457
DTSTART:20260523T040000Z
DTEND:20260523T040000Z
DTSTAMP:20260424T061122Z
LAST-MODIFIED:20260424T061122Z
END:VEVENT

END:VCALENDAR