BEGIN:VCALENDAR
METHOD:PUBLISH
VERSION:2.0
PRODID:-//Family of Rotary First Friday Lunch//Calendar//EN

BEGIN:VEVENT
SUMMARY:Vinings Cumberland | Family of Rotary First Friday Lunch
DESCRIPTION:Meet at El So Mexican Restaurant Bar & Grill\, 3599 Atlanta Rd. SE #11A\, Smyrna\, GA 30080 for a casual lunch.  Everyone orders and pays for their own meal. Family and guests are welcome.  This is an opportunity to get to know your fellow club members. Please sign up so that we know how many to expect.  We will hold a table for you.  Questions\, please email Neill Ferrill at neill.ferrill@ul.com. 
X-ALT-DESC:<p>Meet at El So Mexican Restaurant Bar &amp; Grill, 3599 Atlanta Rd. SE #11A, Smyrna, GA 30080 for a casual lunch.&nbsp; Everyone orders and pays for their own meal. Family and guests are welcome.&nbsp; This is an opportunity to get to know your fellow club members. Please sign up so that we know how many to expect.&nbsp; We will hold a table for you.&nbsp; Questions, please email Neill Ferrill at neill.ferrill@ul.com.&nbsp;</p>
UID:Event6842
DTSTART:20230303T164500Z
DTEND:20230303T180000Z
DTSTAMP:20230216T223629Z
LAST-MODIFIED:20230216T223629Z
END:VEVENT

END:VCALENDAR