BEGIN:VCALENDAR
METHOD:PUBLISH
VERSION:2.0
PRODID:-//Produce Distribution - Resource Fair//Calendar//EN

BEGIN:VEVENT
SUMMARY:Thomasville | Produce Distribution - Resource Fair
DESCRIPTION:Produce distribution at Weston Park
X-ALT-DESC:<p>Produce distribution at Weston Park</p>
UID:Event6761
DTSTART:20230225T140000Z
DTEND:20230225T170000Z
DTSTAMP:20230103T235848Z
LAST-MODIFIED:20230206T201533Z
END:VEVENT

END:VCALENDAR