BEGIN:VCALENDAR
METHOD:PUBLISH
VERSION:2.0
PRODID:-//NO MEETING //Calendar//EN

BEGIN:VEVENT
SUMMARY:Dunwoody | NO MEETING 
DESCRIPTION:
X-ALT-DESC:
UID:Event6721
DTSTART:20221230T050000Z
DTEND:20221230T050000Z
DTSTAMP:20221116T023917Z
LAST-MODIFIED:20221116T023917Z
END:VEVENT

END:VCALENDAR