BEGIN:VCALENDAR
METHOD:PUBLISH
VERSION:2.0
PRODID:-//Regular Meeting: Shashwat Pradham, Our GRSP Student, Nepal   //Calendar//EN

BEGIN:VEVENT
SUMMARY:Dunwoody | Regular Meeting: Shashwat Pradham, Our GRSP Student, Nepal   
DESCRIPTION:at LeMeridien
X-ALT-DESC:<p><span style="line-height: 107%;"><i>at LeMeridien</i></span></p>
UID:Event6647
DTSTART:20230203T050000Z
DTEND:20230203T050000Z
DTSTAMP:20220930T194759Z
LAST-MODIFIED:20230111T220503Z
END:VEVENT

END:VCALENDAR